BEGIN:VCALENDAR
VERSION:2.0
PRODID:https://www.diw.de/de/diw_01.c.806339.de/veranstaltungen.html
METHOD:PUBLISH
CALSCALE:GREGORIAN
BEGIN:VEVENT
UID:diw_01.c.683298.en
LOCATION:Elinor Ostrom Hall,DIW Berlin,Anton-Wilhelm-Amo-Strasse 58,10117 Berlin
SUMMARY:DIW Europe Lecture - Canceled
DESCRIPTION:13.00 - 14.30 // Due to the current political circumstances in the United Kingdom the event has unfortunately been canceled but will likely take place in 2020.
DTSTART;VALUE=DATE:20191108
DTEND;VALUE=DATE:20191108
DTSTAMP:20191013T220000Z
URL:https://www.diw.de/en/diw_01.c.683298.en/events/diw_europe_lecture_-_canceled.html
ORGANIZER;CN=Christiane Zschech:mailto:events@diw.de
END:VEVENT
END:VCALENDAR