BEGIN:VCALENDAR
VERSION:2.0
PRODID:https://www.diw.de/de/diw_01.c.806339.de/veranstaltungen.html
METHOD:PUBLISH
CALSCALE:GREGORIAN
BEGIN:VEVENT
UID:diw_01.c.698728.en
LOCATION:Elinor Ostrom Hall,DIW Berlin,Anton-Wilhelm-Amo-Strasse 58,10117 Berlin
SUMMARY:Wealth inequality and wealth taxes – an OECD Perspective
DESCRIPTION:12:15 - 14:00 // Sarah Perret, OECD, will present findings from a recent report on The Role and Design of Net Wealth Taxes in the OECD. The presentation will give an overview of the cases for and against net wealth taxes, as well as describe how wealth taxes have been designed in practice in the OECD countries that currently have or historically had net wealth taxes. Inheritance taxes, which constitute an alternative form of wealth taxation, will also be briefly explored.
DTSTART;VALUE=DATE:20191128
DTEND;VALUE=DATE:20191128
DTSTAMP:20191121T230000Z
URL:https://www.diw.de/en/diw_01.c.698728.en/events/wealth_inequality_and_wealth_taxes_____an_oecd_perspective.html
ORGANIZER;CN=Ralf Messer:mailto:rmesser@diw.de
END:VEVENT
END:VCALENDAR