BEGIN:VCALENDAR
VERSION:2.0
PRODID:https://www.diw.de/de/diw_01.c.806339.de/veranstaltungen.html
METHOD:PUBLISH
CALSCALE:GREGORIAN
BEGIN:VEVENT
UID:diw_01.c.698999.en
LOCATION:DIW Berlin (Raum 2.3.020),DIW Berlin im Quartier 110,Anton-Wilhelm-Amo-Straße 58,10117 Berlin
SUMMARY:TBA
DESCRIPTION:16.00 - 17.15 // BAMS is a joint seminar by the DIW Berlin, the Hertie School of Governance, the HU Berlin and the WZB.
DTSTART;VALUE=DATE:20191202
DTEND;VALUE=DATE:20191202
DTSTAMP:20191125T230000Z
URL:https://www.diw.de/en/diw_01.c.698999.en/events/tba.html
END:VEVENT
END:VCALENDAR