BEGIN:VCALENDAR
VERSION:2.0
PRODID:https://www.diw.de/de/diw_01.c.806339.de/veranstaltungen.html
METHOD:PUBLISH
CALSCALE:GREGORIAN
BEGIN:VEVENT
UID:diw_01.c.700304.de
LOCATION:Elinor-Ostrom-Saal,DIW Berlin,1.2.019,Anton-Wilhelm-Amo-Straße 58,10117 Berlin
SUMMARY:Berlin im europäischen Hauptstadtvergleich - Wo kann und sollte Berlin in den nächsten 10 Jahren noch zulegen?
DESCRIPTION:11.00 - 12.30 Uhr // Berlin zeichnete sich in den vergangenen Jahren nicht nur durch Wachstum von Wirtschaft und Bevölkerung aus, die Stadt ist auch ihren selbst gesteckten Entwicklungszielen aus der BerlinStrategie nähergekommen. Aufgabe der Stadtpolitik ist es, die Triebkräfte des Wachstums zu erhalten und für eine Verbesserung der Lebensverhältnisse zu nutzen. Der Senat hat ein Jahrzehnt der Investitionen ausgerufen.  Die gemeinsam mit der Bertelsmann Stiftung erarbeitete Studie soll Hinweise geben, an welchem Punkt die deutsche Hauptstadt auf dem Weg zur Vision 2030 bereits angelangt ist und in welchen Feldern andere Städte im Vergleich dazu voraus sind. Dafür wurde Berlin mit 15 EU-Hauptstädten anhand von verschiedenen Zukunftsindikatoren verglichen.
DTSTART;VALUE=DATE:20191220
DTEND;VALUE=DATE:20191220
DTSTAMP:20191204T230000Z
URL:https://www.diw.de/de/diw_01.c.700304.de/veranstaltungen/berlin_im_europaeischen_hauptstadtvergleich_-_wo_kann_und_sollte_berlin_in_den_naechsten_10_jahren_noch_zulegen.html
ORGANIZER;CN=Christiane Zschech:mailto:events@diw.de
END:VEVENT
END:VCALENDAR