BEGIN:VCALENDAR
VERSION:2.0
PRODID:https://www.diw.de/de/diw_01.c.806339.de/veranstaltungen.html
METHOD:PUBLISH
CALSCALE:GREGORIAN
BEGIN:VEVENT
UID:diw_01.c.701886.de
LOCATION:Elinor-Ostrom-Saal,DIW Berlin,1.2.019,Anton-Wilhelm-Amo-Straße 58,10117 Berlin
SUMMARY:Monetary Policy in the Modern Era
DESCRIPTION:12.00 - 13.45 Uhr // 
DTSTART;VALUE=DATE:20200226
DTEND;VALUE=DATE:20200226
DTSTAMP:20200129T230000Z
URL:https://www.diw.de/de/diw_01.c.701886.de/veranstaltungen/monetary_policy_in_the_modern_era.html
ORGANIZER;CN=Christiane Zschech:mailto:events@diw.de
END:VEVENT
END:VCALENDAR