BEGIN:VCALENDAR
VERSION:2.0
PRODID:https://www.diw.de/de/diw_01.c.806339.de/veranstaltungen.html
METHOD:PUBLISH
CALSCALE:GREGORIAN
BEGIN:VEVENT
UID:diw_01.c.785918.de
SUMMARY:Corona-Elterngeld, Bildungsperspektiven und Gleichstellung (Virtual Conference)
DESCRIPTION:11:00 Uhr //   Deutschland befindet sich seit Mitte März im kollektiven Lockdown. Zahlreiche Geschäfte sind weiterhin geschlossen, Arbeitnehmerinnen und Arbeitnehmer in Kurzarbeit, viele Beschäftige arbeiten im Home-Office. Die Lockerung der Maßnahmen erfolgt derzeit in vorsichtigen Schritten und stellt berufstätige Eltern weiterhin vor große Probleme. Die Wiedereröffnung der Schulen erfolgt nur teilweise, etwa für Abschlussklassen. Für Kitas gibt es - bis auf die erweiterte Notbetreuung - bislang keine Perspektive. Etwa vier Millionen Familien mit erwerbstätigen Eltern sind betroffen. Erschwerend kommt hinzu, dass etwa die Hälfte der Eltern und 35 Prozent der Alleinerziehenden in Berufen tätig sind, die theoretisch nicht die Möglichkeit der Arbeit aus dem Homeoffice bieten. Wie können diese Familien finanziell, aber auch aus bildungsökonomischer Perspektive flexibel und unbürokratisch unterstützt werden? Welche Auswirkungen hat die Corona-Krise auf die Arbeitsteilung bei Kinderbetreuung und Hausarbeit zwischen Müttern und Vätern? Diese und weitere Fragen werden im Rahmen der virtuellen Konferenz beantwortet.  
DTSTART;VALUE=DATE:20200505
DTEND;VALUE=DATE:20200505
DTSTAMP:20200427T220000Z
URL:https://www.diw.de/de/diw_01.c.785918.de/veranstaltungen/corona-elterngeld__bildungsperspektiven_und_gleichstellung__virtual_conference.html
ORGANIZER;CN=Christiane Zschech:mailto:events@diw.de
END:VEVENT
END:VCALENDAR