BEGIN:VCALENDAR
VERSION:2.0
PRODID:https://www.diw.de/de/diw_01.c.806339.de/veranstaltungen.html
METHOD:PUBLISH
CALSCALE:GREGORIAN
BEGIN:VEVENT
UID:diw_01.c.787543.en
SUMMARY:Online-Workshop: TFCD Reporting Standard in Practice
DESCRIPTION:10:00 - 12:00 // In its Climate Action Programme 2030, the German government presented concrete measures for the country to reach its 2030 climate target: a reduction of greenhouse gas levels by 55 percent below 1990 levels. At the same time, the German government officially declared its aim to take a leading position in Sustainable Finance. Hence, the country intends to underpin the transformation to a low-carbon society and sustainability-oriented financial system. First and foremost, this requires the integration of climate and sustainability criteria into investment decisions, which is only possible if financial market actors dispose of adequate information about individual assets.  With its recommendations for voluntary climate-related financial reporting, the Task Force on Climate-related Financial Disclosures (TCFD) seeks to create consistency, comparability and reliability among climate related data in order to provide decision-useful information to financial market actors. This online seminar shall provide insights into the current stage of practical application of TCFD standards, both, from a data provider and a data user perspective. Key issues that will be addressed include the penetration status of TCFD scenario based reporting, the benefits, limits and barriers to its implementation and an exchange of practical experiences.  
DTSTART;VALUE=DATE:20200420
DTEND;VALUE=DATE:20200420
DTSTAMP:20200503T220000Z
URL:https://www.diw.de/en/diw_01.c.787543.en/events/online-workshop__tfcd_reporting_standard_in_practice.html
ORGANIZER;CN=Karsten Neuhoff:mailto:kneuhoff@diw.de
END:VEVENT
END:VCALENDAR