BEGIN:VCALENDAR
VERSION:2.0
PRODID:https://www.diw.de/de/diw_01.c.806339.de/veranstaltungen.html
METHOD:PUBLISH
CALSCALE:GREGORIAN
BEGIN:VEVENT
UID:diw_01.c.789522.en
SUMMARY:Virtual Conference: German Sustainable Finance Strategy in a European Context
DESCRIPTION:11:00 - 12:30  //   Co-organized by the Sustainable Finance Research Platform (SFRP) and Berlin Seminar on Energy and Climate Policy (BSEC)    Sustainable Finance is not only a key element of the climate policy agenda. In times of crisis, like the one we are currently experiencing, sustainable finance can also make substantial contributions to making our financial system more resilient, more sustainable and more transparent.  The following questions are of vital importance:- Which approaches are countries taking to enhance the inclusion of climate and other sustainability risks in financing and investment decisions?- How do they increase transparency about the impacts of such decisions on sustainable development, such that everybody can make well-informed investment and saving choices? - What are the most plausible and most effective policy tools and approaches for unlocking the transformative role of the financial sector in shifting capital to where it is needed?Our experts provided exclusive insights into where three European countries stand today, countries that are (or want to join others) at the forefront of sustainable finance. These insights kick-offed a discussion on priorities and next steps for the German sustainable finance strategy.  
DTSTART;VALUE=DATE:20200429
DTEND;VALUE=DATE:20200429
DTSTAMP:20200428T220000Z
URL:https://www.diw.de/en/diw_01.c.789522.en/events/virtual_conference__german_sustainable_finance_strategy_in_a_european_context.html
ORGANIZER;CN=Olga  Zhylenko:mailto:ozhylenko@diw.de
END:VEVENT
END:VCALENDAR