BEGIN:VCALENDAR
VERSION:2.0
PRODID:https://www.diw.de/de/diw_01.c.806339.de/veranstaltungen.html
METHOD:PUBLISH
CALSCALE:GREGORIAN
BEGIN:VEVENT
UID:diw_01.c.790853.en
LOCATION:ONLINE via Zoom
SUMMARY:Accelerating Transformation: the Role of Investment in Germany and the EU to Support Recovery from the Pandemic Shock
DESCRIPTION:2.00 p.m. - 3.00 p.m. //         Europe and Germany are being hit by a historic shock due to the Covid-19 pandemic. Economic activity is going to shrink substantially this year, with lockdown measures having led to sharp contractions in economic output, household spending, corporate investment and international trade. Will we see a strong and sustainable recovery? Investment is central to reboot economic activity and to set the course for future growth. But what are the prospects for investment given current high levels of uncertainty?         
DTSTART;VALUE=DATE:20200618
DTEND;VALUE=DATE:20200618
DTSTAMP:20200602T220000Z
URL:https://www.diw.de/en/diw_01.c.790853.en/events/accelerating_transformation__the_role_of_investment_in_germany_and_the_eu_to_support_recovery_from_the_pandemic_shock.html
ORGANIZER;CN=Ralf Messer:mailto:rmesser@diw.de
END:VEVENT
END:VCALENDAR