BEGIN:VCALENDAR
VERSION:2.0
PRODID:https://www.diw.de/de/diw_01.c.806339.de/veranstaltungen.html
METHOD:PUBLISH
CALSCALE:GREGORIAN
BEGIN:VEVENT
UID:diw_01.c.796181.en
LOCATION:Online seminar via Cisco Webex
SUMMARY:Social Mobility and Economic Development
DESCRIPTION:13:15 - 14:30 // We explore the role of social mobility as driver of economic development. First, we draw the geography of intergenerational mobility of education for 52 Latin American regions, as well as its evolution over time. Then, through a novel weighting procedure that considers the aggregate participation of cohorts to the economy in every year, we estimate the effect of changes in mobility on economic indicators, such as income per capita, poverty, child mortality, and luminosity. Our findings show that increasing social mobility had a significant and robust impact on the long-run development of Latin American regions.  (joint work with Matías Ciaschi, Leonardo Gasparini, and Joaquín Serrano)
DTSTART;VALUE=DATE:20210528
DTEND;VALUE=DATE:20210528
DTSTAMP:20200811T220000Z
URL:https://www.diw.de/en/diw_01.c.796181.en/events/social_mobility_and_economic_development.html
ORGANIZER;CN=Peter Haan:mailto:phaan@diw.de
END:VEVENT
END:VCALENDAR