BEGIN:VCALENDAR
VERSION:2.0
PRODID:https://www.diw.de/de/diw_01.c.806339.de/veranstaltungen.html
METHOD:PUBLISH
CALSCALE:GREGORIAN
BEGIN:VEVENT
UID:diw_01.c.801292.en
LOCATION:Online seminar via Cisco Webex
SUMMARY:The Productivity Riddle in Business Services
DESCRIPTION:10:30 - 11:30 // This is an online seminar using Cisco Webex. You will receive the login data with the invitation to the talk.  Abstract:   A fast growing and diverse literature has addressed one of the riddles of economic developments: the declining labor productivity growth in almost all advanced economies. One of the reasons discussed is the shift towards service industries with inherently low productivity growth. We focus on Germany and find that labor productivity in one important services sector – business services – does not grow slowly but actually exhibits negative growth rates.Following the conventional wisdom, the degree of competitive pressure in a market affects aggregate productivity through various channels. We explore several empirical measures of market competitiveness to find out whether weakened competition can be the explanation for the declining productivity.  Joint work with Alexander Kritikos, DIW Berlin & University of Potsdam, and Alexander Schiersch, DIW Berlin
DTSTART;VALUE=DATE:20201211
DTEND;VALUE=DATE:20201211
DTSTAMP:20201025T230000Z
URL:https://www.diw.de/en/diw_01.c.801292.en/events/the_productivity_riddle_in_business_services.html
ORGANIZER;CN=Shan Huang:mailto:shuang@diw.de
END:VEVENT
END:VCALENDAR