BEGIN:VCALENDAR
VERSION:2.0
PRODID:https://www.diw.de/de/diw_01.c.806339.de/veranstaltungen.html
METHOD:PUBLISH
CALSCALE:GREGORIAN
BEGIN:VEVENT
UID:diw_01.c.810251.de
LOCATION:Online seminar via Cisco Webex
SUMMARY:Paneldaten: Methodische Qualitätsansprüche, praktische Datenanforderungen und politische Informationsbedarfe
DESCRIPTION:16:00-17:45 Uhr12:45-18:00 Uhr9:00-17:45 Uhr // Gemeinsame Tagung des SOEP am DIW Berlin, der Arbeitsgemeinschaft sozialwissenschaftlicher Institute (ASI e.V.) und der Sektion 'Methoden der Empirischen Sozialforschung' in der DGS  Angesichts der bekannten Probleme von Querschnittsanalysen für kausale Fragestellungen und der Grenzen des Einsatzes randomisierter Experimente in den Sozialwissenschaften haben sich Paneldaten in den letzten Jahrzehnten zunehmend zum Goldstandard für Kausalanalysen entwickelt. Mit der öffentlichen Förderung groß angelegter Längsschnittstudien ist von politischer und öffentlicher Seite auch die Erwartung verbunden, belastbare und entscheidungsrelevante Informationen zu liefern, und diese zu aktuellen Themen möglichst zeitnah in politische Entscheidungsprozesse einzuspeisen.
DTSTART;VALUE=DATE:20211116T220000Z
DTEND;VALUE=DATE:20211119T220000Z
DTSTAMP:20210207T230000Z
URL:https://www.diw.de/de/diw_01.c.810251.de/veranstaltungen/paneldaten__methodische_qualitaetsansprueche__praktische_datenanforderungen_und_politische_informationsbedarfe.html
ORGANIZER;CN=Janina Britzke:mailto:jbritzke@diw.de
END:VEVENT
END:VCALENDAR