BEGIN:VCALENDAR
VERSION:2.0
PRODID:https://www.diw.de/de/diw_01.c.806339.de/veranstaltungen.html
METHOD:PUBLISH
CALSCALE:GREGORIAN
BEGIN:VEVENT
UID:diw_01.c.811142.en
SUMMARY:Fatal austerity: the economic consequences of Heinrich Brüning
DESCRIPTION:11:00-12:00 // 
DTSTART;VALUE=DATE:20210120
DTEND;VALUE=DATE:20210120
DTSTAMP:20210216T230000Z
URL:https://www.diw.de/en/diw_01.c.811142.en/events/fatal_austerity__the_economic_consequences_of_heinrich_bruening.html
ORGANIZER;CN=Konstantin A. Kholodilin:mailto:kkholodilin@diw.de
END:VEVENT
END:VCALENDAR