BEGIN:VCALENDAR
VERSION:2.0
PRODID:https://www.diw.de/de/diw_01.c.806339.de/veranstaltungen.html
METHOD:PUBLISH
CALSCALE:GREGORIAN
BEGIN:VEVENT
UID:diw_01.c.811235.en
LOCATION:Online seminar via Cisco Webex
SUMMARY:Technological Change and Labor Market Opportunities
DESCRIPTION:12:30 - 13:30 //                         The role of skill-biased technological change for increasing wage inequality is well documented. Interestingly, we find that even though in Germany from 1986 to 2012 wage inequality rose, the wage penalty of a disadvantaged family background declined. Our analysis shows that this development is consistently linked to technological progress. The introduction and the use of new technologies in certain occupations explain the rising share of workers with disadvantaged parental background in those occupations as well as their rising relative wages. This is consistent with the hypothesis that due to technological change the returns to individual abilities increase relative to the returns to parental background, as parents' occupation specific knowledge and networks depreciate during rapid technological transformations.                        
DTSTART;VALUE=DATE:20210224
DTEND;VALUE=DATE:20210224
DTSTAMP:20210216T230000Z
URL:https://www.diw.de/en/diw_01.c.811235.en/events/technological_change_and_labor_market_opportunities.html
ORGANIZER;CN=Viola Hilbert:mailto:vhilbert@diw.de
END:VEVENT
END:VCALENDAR