BEGIN:VCALENDAR
VERSION:2.0
PRODID:https://www.diw.de/de/diw_01.c.806339.de/veranstaltungen.html
METHOD:PUBLISH
CALSCALE:GREGORIAN
BEGIN:VEVENT
UID:diw_01.c.811726.en
LOCATION:ONLINE via Zoom
SUMMARY:Merger, Product Variety and Firm Entry: the Retail Craft Beer Market in California
DESCRIPTION:4.00 pm - 5.00 pm // 
DTSTART;VALUE=DATE:20210301
DTEND;VALUE=DATE:20210301
DTSTAMP:20210222T230000Z
URL:https://www.diw.de/en/diw_01.c.811726.en/events/merger__product_variety_and_firm_entry__the_retail_craft_beer_market_in_california.html
ORGANIZER;CN=Nicole Haase:mailto:nhaase@diw.de 
END:VEVENT
END:VCALENDAR