BEGIN:VCALENDAR
VERSION:2.0
PRODID:https://www.diw.de/de/diw_01.c.806339.de/veranstaltungen.html
METHOD:PUBLISH
CALSCALE:GREGORIAN
BEGIN:VEVENT
UID:diw_01.c.825000.en
SUMMARY:CFM-Traction joint Germany-Poland online workshop
DESCRIPTION:12:00 - 14:00 // This event, organized in the context of the CFM-TRACTION  project, is a small-scale joint workshop with key stakeholders in industrial decarbonisation across German and Poland. We are bringing together key voices to discuss the results from our series of national workshops, to discuss and compare perspectives on the national level between the two countries.
DTSTART;VALUE=DATE:20201214
DTEND;VALUE=DATE:20201214
DTSTAMP:20210915T220000Z
URL:https://www.diw.de/en/diw_01.c.825000.en/events/cfm-traction_joint_germany-poland_online_workshop.html
ORGANIZER;CN=Olga Chiappinelli:mailto:ochiappinelli@diw.de
END:VEVENT
END:VCALENDAR