BEGIN:VCALENDAR
VERSION:2.0
PRODID:https://www.diw.de/de/diw_01.c.806339.de/veranstaltungen.html
METHOD:PUBLISH
CALSCALE:GREGORIAN
BEGIN:VEVENT
UID:diw_01.c.827170.en
SUMMARY:Carbon pricing in a risky world
DESCRIPTION:16:00-18:00 // 
DTSTART;VALUE=DATE:20211026
DTEND;VALUE=DATE:20211026
DTSTAMP:20211020T220000Z
URL:https://www.diw.de/en/diw_01.c.827170.en/events/carbon_pricing_in_a_risky_world.html
ORGANIZER;CN=Alexander Kriwoluzky:mailto:akriwoluzky@diw.de
END:VEVENT
END:VCALENDAR