BEGIN:VCALENDAR
VERSION:2.0
PRODID:https://www.diw.de/de/diw_01.c.806339.de/veranstaltungen.html
METHOD:PUBLISH
CALSCALE:GREGORIAN
BEGIN:VEVENT
UID:diw_01.c.828373.en
LOCATION:German Institute for Economic Research (DIW Berlin),Anton-Wilhelm-Amo-Strasse 58,10117 Berlin,Germany
SUMMARY:SOEP 2022 - 14th International German Socio-Economic Panel User Conference
DESCRIPTION:The 14th International German Socio-Economic Panel User Conference (SOEP2022) will be held in Berlin from June 30 to July 1, 2022 at DIW Berlin.  The conference provides researchers who use the SOEP (including the SOEP part of the Cross-National Equivalent File (CNEF) and LIS/LWS data) with the opportunity to present and discuss their work with their peers. Researchers of all disciplines (e.g., economics, demography, geography, political science, public health, psychology, and sociology) are invited to submit an abstract.  The theme of the conference and keynote speeches will be "The Opportunities and Challenges of Technological Change and Digitalization". We particularly welcome contributions examining the economic, political, psychological, and social consequences of technological change and digitalization at the workplace and in everyday life outside of work. In addition, we encourage submissions beyond this thematic focus, particularly submissions using the longitudinal features of SOEP and papers on survey methodology and cross-national comparative analysis.
DTSTART;VALUE=DATE:20220629T220000Z
DTEND;VALUE=DATE:20220701T220000Z
DTSTAMP:20211122T230000Z
URL:https://www.diw.de/en/diw_01.c.828373.en/events/soep_2022_-_14th_international_german_socio-economic_panel_user_conference.html
ORGANIZER;CN=Janina Britzke:mailto:jbritzke@diw.de
END:VEVENT
END:VCALENDAR