BEGIN:VCALENDAR
VERSION:2.0
PRODID:https://www.diw.de/de/diw_01.c.806339.de/veranstaltungen.html
METHOD:PUBLISH
CALSCALE:GREGORIAN
BEGIN:VEVENT
UID:diw_01.c.829948.en
LOCATION:Humboldt University,Berlin
SUMMARY:Technological Change, Firm Heterogeneity and Wage Inequality
DESCRIPTION:4.00 pm - 5.00 pm // 
DTSTART;VALUE=DATE:20211122
DTEND;VALUE=DATE:20211122
DTSTAMP:20211115T230000Z
URL:https://www.diw.de/en/diw_01.c.829948.en/events/technological_change__firm_heterogeneity_and_wage_inequality.html
ORGANIZER;CN=Nicole Haase:mailto:nhaase@diw.de 
END:VEVENT
END:VCALENDAR