BEGIN:VCALENDAR
VERSION:2.0
PRODID:https://www.diw.de/de/diw_01.c.806339.de/veranstaltungen.html
METHOD:PUBLISH
CALSCALE:GREGORIAN
BEGIN:VEVENT
UID:diw_01.c.831106.en
SUMMARY:Wealth inequality cycles
DESCRIPTION:11:00-12:00 // 
DTSTART;VALUE=DATE:20220125
DTEND;VALUE=DATE:20220125
DTSTAMP:20211206T230000Z
URL:https://www.diw.de/en/diw_01.c.831106.en/events/wealth_inequality_cycles.html
ORGANIZER;CN=Konstantin A. Kholodilin:mailto:kkholodilin@diw.de
END:VEVENT
END:VCALENDAR