BEGIN:VCALENDAR
VERSION:2.0
PRODID:https://www.diw.de/de/diw_01.c.806339.de/veranstaltungen.html
METHOD:PUBLISH
CALSCALE:GREGORIAN
BEGIN:VEVENT
UID:diw_01.c.831114.en
SUMMARY:A 200-hundered Year EMBI
DESCRIPTION:11:00-12:00 // 
DTSTART;VALUE=DATE:20220405
DTEND;VALUE=DATE:20220405
DTSTAMP:20211206T230000Z
URL:https://www.diw.de/en/diw_01.c.831114.en/events/a_200-hundered_year_embi.html
ORGANIZER;CN=Konstantin A. Kholodilin:mailto:kkholodilin@diw.de
END:VEVENT
END:VCALENDAR