BEGIN:VCALENDAR
VERSION:2.0
PRODID:https://www.diw.de/de/diw_01.c.806339.de/veranstaltungen.html
METHOD:PUBLISH
CALSCALE:GREGORIAN
BEGIN:VEVENT
UID:diw_01.c.833116.de
LOCATION:Elinor-Ostrom-Saal,DIW Berlin,1.2.019,Anton-Wilhelm-Amo-Straße 58,10117 Berlin
SUMMARY:SOEPcampus@DIW Berlin 2022
DESCRIPTION:Am 20. und 21. April 2022 organisieren wir einen zweitägigen Workshop zum Sozio-oekonomischen Panel (SOEP) am DIW Berlin. Neben Vorträgen zu Aufbau, Datenstruktur, Ziehungsdesign und Gewichtungsstrategie bieten hands-on Sessions eine praxisorientierte Annäherung an die Daten und ihre Potentiale.  Der Workshop richtet sich an Wissenschaftlerinnen und Wissenschaftler auf allen Qualifikationsstufen, die in Zukunft mit den SOEP-Daten arbeiten wollen oder sich aktuell im frühen Stadium der SOEP-basierten Datenanalyse befinden.
DTSTART;VALUE=DATE:20220419T220000Z
DTEND;VALUE=DATE:20220421T220000Z
DTSTAMP:20220124T230000Z
URL:https://www.diw.de/de/diw_01.c.833116.de/veranstaltungen/soepcampus_diw_berlin_2022.html
ORGANIZER;CN=Janina Britzke:mailto:jbritzke@diw.de
END:VEVENT
END:VCALENDAR