BEGIN:VCALENDAR
VERSION:2.0
PRODID:https://www.diw.de/de/diw_01.c.806339.de/veranstaltungen.html
METHOD:PUBLISH
CALSCALE:GREGORIAN
BEGIN:VEVENT
UID:diw_01.c.833862.de
SUMMARY:Virtual Seminar: Frühindikatoren für ein besseres Management der Klimawende
DESCRIPTION:12:30 - 14:00 // Durch die Entscheidung des Bundesverfassungsgerichts sowie die politische Forderung nach Klimaneutralität ergeben sich neue Anforderungen an die Politik. Denn diese muss bereits jetzt die Weichen für eine klimaneutrale Gesellschaft stellen. Wir wollen diskutieren, ob das mit den im Klimaschutzgesetz vorgesehenen Monitoringinstrumente sicherstellt werden kann. Welche Herausforderungen für das Monitoring ergeben sich durch Unsicherheiten und verspätetes Feedback? Vor diesem Hintergrund wollen wir diskutieren, ob das Klimaschutzgesetz um sogenannte Frühindikatoren ergänzt werden sollte, die rechtzeitig Auskunft über den Erfolg klimapolitischer Maßnahmen geben.
DTSTART;VALUE=DATE:20210929
DTEND;VALUE=DATE:20210929
DTSTAMP:20201124T230000Z
URL:https://www.diw.de/de/diw_01.c.833862.de/veranstaltungen/virtual_seminar__fruehindikatoren_fuer_ein_besseres_management_der_klimawende.html
ORGANIZER;CN=Olga  Zhylenko:mailto:ozhylenko@diw.de
END:VEVENT
END:VCALENDAR