BEGIN:VCALENDAR
VERSION:2.0
PRODID:https://www.diw.de/de/diw_01.c.806339.de/veranstaltungen.html
METHOD:PUBLISH
CALSCALE:GREGORIAN
BEGIN:VEVENT
UID:diw_01.c.833881.de
SUMMARY:Virtual Seminar: Kernenergie und Energiewende – Bestandsaufnahme und Ausblick
DESCRIPTION:12:30 - 14:00 // Zum Ende 2021 bzw. Ende 2022 gehen die letzten Kernkraftwerke in Deutschland vom Netz und der Atomausstieg wurde im Koalitionsvertrag bestätigt. Dennoch bleibt das Thema Kernenergie auf der politischen Agenda, unter anderem in energie- und klimapolitischen Szenarien für Europa und im Kontext der EU-Taxonomie für nachhaltige Investitionen. Darüber hinaus steht Deutschland vor der Herausforderung, von der Zwischen- zur Endlagerung überzugehen: Hierbei sucht die Bundesgesellschaft für Endlagersuche (BGE) den Standort für ein Endlager für hochradioaktive Abfälle, der die bestmögliche Sicherheit für eine Million Jahre gewährleistet
DTSTART;VALUE=DATE:20211209
DTEND;VALUE=DATE:20211209
DTSTAMP:20201124T230000Z
URL:https://www.diw.de/de/diw_01.c.833881.de/veranstaltungen/virtual_seminar__kernenergie_und_energiewende_____bestandsaufnahme_und_ausblick.html
ORGANIZER;CN=Olga  Zhylenko:mailto:ozhylenko@diw.de
END:VEVENT
END:VCALENDAR