BEGIN:VCALENDAR
VERSION:2.0
PRODID:https://www.diw.de/de/diw_01.c.806339.de/veranstaltungen.html
METHOD:PUBLISH
CALSCALE:GREGORIAN
BEGIN:VEVENT
UID:diw_01.c.835679.de
LOCATION:Online
SUMMARY:Stranded Assets in der Kohleexportindustrie?
DESCRIPTION:08:00 Uhr // Eine Fallstudie des Galilee Basin in Australien  Kohleexporteure sind mit eine zunehmend unsicheren Nachfrageentwicklung konfrontiert, die das Risiko des Wertverlustes ihrer Anlagen birgt. Trotz internationaler Klimaschutzbemühungen werden aber weiterhin Projekte wie Carmichael im australischen Galilee Basin entwickelt. Im Seminar stellen wir jüngste Forschungsergebnisse mit dem COALMOD-World-Modell vor und diskutieren sie mit australischen Experten. Teilnahme nur mit Einladung.
DTSTART;VALUE=DATE:20220223
DTEND;VALUE=DATE:20220223
DTSTAMP:20220213T230000Z
URL:https://www.diw.de/de/diw_01.c.835679.de/veranstaltungen/stranded_assets_in_der_kohleexportindustrie.html
ORGANIZER;CN=Franziska Holz:mailto:fholz@diw.de
END:VEVENT
END:VCALENDAR