BEGIN:VCALENDAR
VERSION:2.0
PRODID:https://www.diw.de/de/diw_01.c.806339.de/veranstaltungen.html
METHOD:PUBLISH
CALSCALE:GREGORIAN
BEGIN:VEVENT
UID:diw_01.c.835679.en
LOCATION:Online
SUMMARY:Stranded Investments in the Coal Export Industry? 
DESCRIPTION:08:00 Uhr // The Case of the Australian Galilee Basin  Thermal coal exporters face increasing uncertainty about future coal demand and the risk of asset stranding is increasing. Nevertheless, new export-oriented coal mine projects like the Carmichael project in the Australian Galilee Basin are still brought forward. In this seminar, we discuss research results with the COALMOD-World model with Australian experts. By invitation only.
DTSTART;VALUE=DATE:20220223
DTEND;VALUE=DATE:20220223
DTSTAMP:20220213T230000Z
URL:https://www.diw.de/en/diw_01.c.835679.en/events/stranded_investments_in_the_coal_export_industry.html
ORGANIZER;CN=Franziska Holz:mailto:fholz@diw.de
END:VEVENT
END:VCALENDAR