BEGIN:VCALENDAR
VERSION:2.0
PRODID:https://www.diw.de/de/diw_01.c.806339.de/veranstaltungen.html
METHOD:PUBLISH
CALSCALE:GREGORIAN
BEGIN:VEVENT
UID:diw_01.c.836425.de
LOCATION:Online seminar via Cisco Webex
SUMMARY:German Index of Socioeconomic Deprivation/Kleinsträumiger multipler Deprivationsindex
DESCRIPTION:
DTSTART;VALUE=DATE:20211208
DTEND;VALUE=DATE:20211208
DTSTAMP:20220223T230000Z
URL:https://www.diw.de/de/diw_01.c.836425.de/veranstaltungen/german_index_of_socioeconomic_deprivation/kleinstraeumiger_multipler_deprivationsindex.html
END:VEVENT
END:VCALENDAR