BEGIN:VCALENDAR
VERSION:2.0
PRODID:https://www.diw.de/de/diw_01.c.806339.de/veranstaltungen.html
METHOD:PUBLISH
CALSCALE:GREGORIAN
BEGIN:VEVENT
UID:diw_01.c.845749.en
LOCATION:Humboldt Universität zu Berlin,Faculty of Economics and Business,23,Spandauer Str. 1,10178 Berlin
SUMMARY:"Macroprudential Policy and Financial Crises"
DESCRIPTION:16:00-18:00 c.t. // 
DTSTART;VALUE=DATE:20220719
DTEND;VALUE=DATE:20220719
DTSTAMP:20220621T220000Z
URL:https://www.diw.de/en/diw_01.c.845749.en/events/macroprudential_policy_and_financial_crises.html
ORGANIZER;CN=Juliane Metzner:mailto:jmetzner@diw.de
END:VEVENT
END:VCALENDAR