BEGIN:VCALENDAR
VERSION:2.0
PRODID:https://www.diw.de/de/diw_01.c.806339.de/veranstaltungen.html
METHOD:PUBLISH
CALSCALE:GREGORIAN
BEGIN:VEVENT
UID:diw_01.c.851836.de
LOCATION:Elinor-Ostrom-Saal,DIW Berlin,1.2.019,Anton-Wilhelm-Amo-Straße 58,10117 Berlin
SUMMARY:Arbeitskräftemangel und Ungleichheit auf dem Arbeitsmarkt - was hilft?
DESCRIPTION:12.00 - 13.15 Uhr mit anschließendem Lunch // Fachkräftemangel – und in vielen Bereichen auch genereller Arbeitskräftemangel – prägt zunehmend die OECD-Arbeitsmärkte. Doch das verschafft nicht allen Erwerbstätigen eine gute Beschäftigung. Die Pandemie könnte sich gerade für Jüngere, Frauen und Eingewanderte nachteilig ausgewirkt haben und die Ungleichheit am Arbeitsmarkt verstärken. Was sind die Ursachen und welche Lösungen gibt es? Der jüngst erschienene OECD-Beschäftigungsausblick verweist auf die Marktmacht einiger Arbeitgeber, wachsende Unterschiede im Hinblick auf Produktivität und Lohnniveaus von Unternehmen und ein Auseinanderfallen zwischen individuellen Kompetenzen und Arbeitsmarkterfordernissen. Er zeigt aber auch auf, dass gut konzipierte Arbeitszeitverkürzungen bei vollem Lohnausgleich dem Wohlergehen und der Beschäftigung dienen können. Die Runde diskutiert, welche politischen Maßnahmen dazu beitragen, gute Arbeit für alle zu schaffen. 
DTSTART:20220921T100000Z
DTEND:20220921T111500Z
DTSTAMP:20220901T220000Z
URL:https://www.diw.de/de/diw_01.c.851836.de/veranstaltungen/arbeitskraeftemangel_und_ungleichheit_auf_dem_arbeitsmarkt_-_was_hilft.html
ORGANIZER;CN=Christiane Zschech:mailto:events@diw.de
END:VEVENT
END:VCALENDAR