BEGIN:VCALENDAR
VERSION:2.0
PRODID:https://www.diw.de/de/diw_01.c.806339.de/veranstaltungen.html
METHOD:PUBLISH
CALSCALE:GREGORIAN
BEGIN:VEVENT
UID:diw_01.c.854582.en
LOCATION:Karl Popper Room,DIW Berlin,2.3.020,Anton-Wilhelm-Amo-Strasse 58,10117 Berlin
SUMMARY:Seminar of the Macro Department
DESCRIPTION:11:00 a.m.  // 
DTSTART;VALUE=DATE:20230124
DTEND;VALUE=DATE:20230124
DTSTAMP:20220829T220000Z
URL:https://www.diw.de/en/diw_01.c.854582.en/events/seminar_of_the_macro_department.html
ORGANIZER;CN=Juliane Metzner:mailto:jmetzner@diw.de
END:VEVENT
END:VCALENDAR