BEGIN:VCALENDAR
VERSION:2.0
PRODID:https://www.diw.de/de/diw_01.c.806339.de/veranstaltungen.html
METHOD:PUBLISH
CALSCALE:GREGORIAN
BEGIN:VEVENT
UID:diw_01.c.857587.en
LOCATION:Elinor Ostrom Hall,DIW Berlin,Anton-Wilhelm-Amo-Strasse 58,10117 Berlin
SUMMARY:"Home Price Expectations and Spending: Evidence from a Field Experiment”
DESCRIPTION:16:00-18:00 c.t. // 
DTSTART;VALUE=DATE:20230207
DTEND;VALUE=DATE:20230207
DTSTAMP:20220919T220000Z
URL:https://www.diw.de/en/diw_01.c.857587.en/events/home_price_expectations_and_spending__evidence_from_a_field_experiment.html
ORGANIZER;CN=Juliane Metzner:mailto:jmetzner@diw.de
END:VEVENT
END:VCALENDAR