BEGIN:VCALENDAR
VERSION:2.0
PRODID:https://www.diw.de/de/diw_01.c.806339.de/veranstaltungen.html
METHOD:PUBLISH
CALSCALE:GREGORIAN
BEGIN:VEVENT
UID:diw_01.c.860112.en
LOCATION:WZB - Wissenschaftszentrum Berlin für Sozialforschung,Reichpietschufer 50,10785 Berlin
SUMMARY:7th BCCP Forum
DESCRIPTION:13:00-18:00 // Leibniz ScienceCampusBerlin Centre for Consumer Policies (BCCP) Forum  The Forum will bring together all BCCP fellows in law and economics who are engaged in the activities of the science campus. We will have the opportunity to learn about each other’s research during short presentations by the different partner institutions followed by open discussion. The objective of the meeting is to encourage discourse and exchange and clarify the themes and aims of BCCP.  At this BCCP Forum, Fellows will give short pitches of their current research. The event will conclude with an early informal get-together.
DTSTART;VALUE=DATE:20220427
DTEND;VALUE=DATE:20220427
DTSTAMP:20220426T220000Z
URL:https://www.diw.de/en/diw_01.c.860112.en/events/7th_bccp_forum.html
ORGANIZER;CN=Temulun Borjigen:mailto:tborjigen@diw.de
END:VEVENT
END:VCALENDAR