BEGIN:VCALENDAR
VERSION:2.0
PRODID:https://www.diw.de/de/diw_01.c.806339.de/veranstaltungen.html
METHOD:PUBLISH
CALSCALE:GREGORIAN
BEGIN:VEVENT
UID:diw_01.c.861238.de
LOCATION:Elinor-Ostrom-Saal,DIW Berlin,1.2.019,Anton-Wilhelm-Amo-Straße 58,10117 Berlin
SUMMARY:SOEPcampus@DIW Berlin 2023
DESCRIPTION:Am 9. und 10. März 2023 organisieren wir einen zweitägigen Workshop zum Sozio-oekonomischen Panel (SOEP) am DIW Berlin. Neben Vorträgen zu Aufbau, Datenstruktur, Ziehungsdesign und Gewichtungsstrategie bieten Hands-On Sessions eine praxisorientierte Annäherung an die Daten und ihre Potentiale.  Der Workshop richtet sich an Wissenschaftlerinnen und Wissenschaftler auf allen Qualifikationsstufen, die in Zukunft mit den SOEP-Daten arbeiten wollen oder sich aktuell im frühen Stadium der SOEP-basierten Datenanalyse befinden.
DTSTART;VALUE=DATE:20230308T220000Z
DTEND;VALUE=DATE:20230310T220000Z
DTSTAMP:20221208T230000Z
URL:https://www.diw.de/de/diw_01.c.861238.de/veranstaltungen/soepcampus_diw_berlin_2023.html
ORGANIZER;CN=Janina Britzke:mailto:jbritzke@diw.de
END:VEVENT
END:VCALENDAR