BEGIN:VCALENDAR
VERSION:2.0
PRODID:https://www.diw.de/de/diw_01.c.806339.de/veranstaltungen.html
METHOD:PUBLISH
CALSCALE:GREGORIAN
BEGIN:VEVENT
UID:diw_01.c.863051.de
LOCATION:Auditorium Friedrichstrasse,Quartier 110,Friedrichstrasse 180,10117  Berlin
SUMMARY:Europas Chancen nutzen: Reformen für mehr Wohlstand und Stabilität
DESCRIPTION:14 Uhr bis 15.15 Uhr // Das Deutsche Institut für Wirtschaftsforschung (DIW Berlin) begrüßte zur "9. DIW Europe Lecture. Europas Chancen nutzen: Reformen für mehr Wohlstand und Stabilität" Dr. Joachim Nagel, Präsident der Deutschen Bundesbank.  Fast auf den Tag genau ein Jahr nach dem Angriffskrieg auf die Ukraine sprach Bundesbankpräsident Dr. Joachim Nagel im Rahmen einer DIW Europe Lecture über die Herausforderung der Zeitenwende in Europa. Nagel unterstrich dabei, dass der mit der Europäischen Union geschaffene politische und wirtschaftliche Zusammenhalt von enormer Bedeutung sei.  In seiner Rede empfahl er die konsequente Weiterentwicklung des europäischen Binnenmarkts durch "neuen Schub" und fokussierte auf die kommenden Aufgaben: freier Dienstleistungs-, Zahlungs- und Kapitalverkehr - Stichworte Kapitalmarktunion und Einführung des digitalen Euro - mit dem Ziel, die Wettbewerbsfähigkeit Europas zu steigern, den Standort Europa attraktiver zu machen.  Die 9. DIW Europe Lecture fand im Auditorium Friedrichstraße mit zahlreich erschienen Gästen vor Ort und auch via Livestream statt. Die Aufzeichnung ist auf dieser Seite abrufbar.  
DTSTART:20230216T130000Z
DTEND:20230216T141500Z
DTSTAMP:20230109T230000Z
URL:https://www.diw.de/de/diw_01.c.863051.de/veranstaltungen/europas_chancen_nutzen__reformen_fuer_mehr_wohlstand_und_stabilitaet.html
ORGANIZER;CN=Christiane Zschech:mailto:events@diw.de
END:VEVENT
END:VCALENDAR