BEGIN:VCALENDAR
VERSION:2.0
PRODID:https://www.diw.de/de/diw_01.c.806339.de/veranstaltungen.html
METHOD:PUBLISH
CALSCALE:GREGORIAN
BEGIN:VEVENT
UID:diw_01.c.867813.en
LOCATION:ESMT Berlin,European School of Management and Technology,Auditorium II (2nd Floor),Schloßplatz 1,10178 Berlin
SUMMARY:The 15th Berlin IO Day
DESCRIPTION:9:45 - 17:30 // The Berlin IO Day is a one-day workshop sponsored by the Berlin Centre for Consumer Policies (BCCP) and supported by the Berlin's leading academic institutions, including DIW Berlin, ESMT Berlin, Freie Universität Berlin, Humboldt-Universität zu Berlin, and Technische Universität Berlin. The aim is to create an international forum for high quality research in Industrial Organization in the heart of Berlin, one of Europe's most vibrant and intellectually lively cities.
DTSTART;VALUE=DATE:20230915
DTEND;VALUE=DATE:20230915
DTSTAMP:20220622T220000Z
URL:https://www.diw.de/en/diw_01.c.867813.en/events/the_15th_berlin_io_day.html
ORGANIZER;CN=Sibylle Kremser:mailto:skremser@diw.de
END:VEVENT
END:VCALENDAR