BEGIN:VCALENDAR
VERSION:2.0
PRODID:https://www.diw.de/de/diw_01.c.806339.de/veranstaltungen.html
METHOD:PUBLISH
CALSCALE:GREGORIAN
BEGIN:VEVENT
UID:diw_01.c.869390.en
LOCATION:Karl Popper Room,DIW Berlin,2.3.020,Anton-Wilhelm-Amo-Strasse 58,10117 Berlin
SUMMARY: Continuous-Time Heterogeneous-Agent Models: Inequality and Financial Stability 
DESCRIPTION:12 - 16 June: 10-12h &amp; 13-15h14 June revision and assignment, not in person. // This course aims at giving tools to students for entering the frontier of research regarding two new lines of research: (a) models of wealth-inequality determinants and dynamics, and (b) models of financial stability. The focus will be on presenting general-purpose analytical and computational techniques that enable students to replicate and extend frontier-research papers in these areas. The course will focus on wealth-inequality/household portfolio models and on theoretical models of credit cycles, models of inside-money and liquidity, and models connecting endogenous financial-stability risk with macroeconomic performance.
DTSTART;VALUE=DATE:20230611T220000Z
DTEND;VALUE=DATE:20230616T220000Z
DTSTAMP:20230327T220000Z
URL:https://www.diw.de/en/diw_01.c.869390.en/events/continuous-time_heterogeneous-agent_models__inequality_and_financial_stability.html
ORGANIZER;CN=Jonatan von Moltke:mailto:jvmoltke@diw.de
END:VEVENT
END:VCALENDAR