BEGIN:VCALENDAR
VERSION:2.0
PRODID:https://www.diw.de/de/diw_01.c.806339.de/veranstaltungen.html
METHOD:PUBLISH
CALSCALE:GREGORIAN
BEGIN:VEVENT
UID:diw_01.c.876048.en
LOCATION:Berlin-Brandenburgische Akademie der Wissenschaften,Jägerstraße 22/23,10117 Berlin
SUMMARY:SOEP 2024 – 15th International German Socio-Economic Panel User Conference
DESCRIPTION:The 15th International German Socio-Economic Panel User Conference (SOEP2024) this year was held at BBAW in Berlin from July 4 to July 5, 2024.  The conference provided researchers who use the SOEP (including the SOEP part of the Cross-National Equivalent File (CNEF) and LIS/LWS data) with the opportunity to present and discuss their work with their peers. Researchers of all disciplines (e.g., economics, demography, geography, political science, public health, psychology, and sociology) were invited and around 100 people attended the two-day event. The theme of the conference and keynote speeches concentrated on "the individual and collective responses to a changing world". Of the approximately 80 submissions by conference participants from ten different countries, 64 submissions were accepted for presentation by the scientific committee for the SOEP conference. To get an overview on all topics of the presentations and posters, please take a look at our program (see box on the left).  For more details on the conference, please have a look below.
DTSTART;VALUE=DATE:20240703T220000Z
DTEND;VALUE=DATE:20240705T220000Z
DTSTAMP:20230627T220000Z
URL:https://www.diw.de/en/diw_01.c.876048.en/events/soep_2024_____15th_international_german_socio-economic_panel_user_conference.html
ORGANIZER;CN=Janina Britzke:mailto:jbritzke@diw.de
END:VEVENT
END:VCALENDAR