BEGIN:VCALENDAR
VERSION:2.0
PRODID:https://www.diw.de/de/diw_01.c.806339.de/veranstaltungen.html
METHOD:PUBLISH
CALSCALE:GREGORIAN
BEGIN:VEVENT
UID:diw_01.c.882101.en
LOCATION:Elinor Ostrom Hall,DIW Berlin,Anton-Wilhelm-Amo-Strasse 58,10117 Berlin
SUMMARY:Narrating for new Narratives
DESCRIPTION:14:00-15.30 Uhr // Podcasts have gained incredible popularity and also the number of scientific podcasters has grown. By them, podcasts are being explored as a tool to disseminate critical knowledge and reach an audience beyond academic journals and conferences. They not only offer new opportunities for knowledge transfer and dialogue, but also for research and theory building. Theories can be discursively negotiated and linked to current topics and political events.  Can podcasts serve as a digital arena to open up conversations between professors, activists, artists, and other practitioners, and the audience? Which challenges are associated to this?  This panel brings into conversation scientific podcasters that tackle contemporary climate politics and problematize the set of empirical, normative and epistemic problems that it engenders. It aims to discuss how podcasts can be a channel to promote conversations of issues that are difficult and yet relevant to the lived experience of everybody, such as power relations, social transformation, democracy, neoliberalism, postcolonialism, climate politics, environmental crises, sustainability, science, art. We bring together podcasters incite their audience to think critically by contrasting different perspectives and thus helping to expand our understanding of the world in crises.
DTSTART:20231108T130000Z
DTEND:20231108T143000Z
DTSTAMP:20231004T220000Z
URL:https://www.diw.de/en/diw_01.c.882101.en/events/narrating_for_new_narratives.html
ORGANIZER;CN=Christiane Zschech:mailto:events@diw.de
END:VEVENT
END:VCALENDAR