BEGIN:VCALENDAR
VERSION:2.0
PRODID:https://www.diw.de/de/diw_01.c.806339.de/veranstaltungen.html
METHOD:PUBLISH
CALSCALE:GREGORIAN
BEGIN:VEVENT
UID:diw_01.c.896809.en
LOCATION:Elinor Ostrom Hall,DIW Berlin,Anton-Wilhelm-Amo-Strasse 58,10117 Berlin
SUMMARY:Policy options to enhance circularity
DESCRIPTION:09:30 - 16:30 // The European Union’s Circular Economy Action Plan (2020) introduced initiatives to establish a coherent product policy framework focusing on the entire life cycle of products. This Action Plan targets regulations on product design to promote circular economy processes and reduce of waste creation. Together with the subsequent Sustainable Product Regulation and further revisions of regulations on prioritized products (e.g. packaging, plastics, construction materials and end-of-life vehicles), they provide a unique opportunity to meet the needs of industries along the value chain in achieving a transition towards a decarbonized, resource-efficient and circular economy.  This workshop brings together researchers, policymakers, and industry stakeholders to explore the challenges and policy needs for high-quality raw material recycling and develop a joint research agenda. During this workshop, bottlenecks for high-quality recycling will be explored and potential challenges under the current and upcoming policy framework will be identified with the objective of contributing to the development of comprehensive policy recommendations for the strengthening of the circular economy.
DTSTART:20240119T083000Z
DTEND:20240119T153000Z
DTSTAMP:20240313T230000Z
URL:https://www.diw.de/en/diw_01.c.896809.en/events/policy_options_to_enhance_circularity.html
ORGANIZER;CN=Xi Sun:mailto:xsun@diw.de
END:VEVENT
END:VCALENDAR