BEGIN:VCALENDAR
VERSION:2.0
PRODID:https://www.diw.de/de/diw_01.c.806339.de/veranstaltungen.html
METHOD:PUBLISH
CALSCALE:GREGORIAN
BEGIN:VEVENT
UID:diw_01.c.896839.en
SUMMARY:Mindesteffizienzstandards für Nichtwohngebäude – Wie können sie ihre Wirkung entfalten? 
DESCRIPTION:12:30 - 14:00 // Aktuell wird die Europäische Gebäuderichtline novelliert. Es scheint dabei wahrscheinlich, dass die EU-Kommission die Staaten mit der Einführung von energetischen Mindesteffizienzstandards (Minimum Energy Performance Standards, MEPS) für Nichtwohngebäude beauftragen wird. Dieses Instrument sieht vor, dass zu einem definierten Zeitpunkt (z.B. bis 2030) ein bestimmter Anteil der Bestandsgebäude, die am meisten Energie verbrauchen (z.B. die ineffizientesten 15%), energetisch saniert werden muss.  Der Energieverbrauch von Nichtwohngebäuden unterscheidet sich stark je Nutzungsart. Ebenso vielfältig sind die Chancen und Herausforderungen bei der energetischen Sanierung von Nichtwohngebäuden. Wie können all die Unterschiede in einem MEPS-System berücksichtigt werden? Was können wir aus anderen Ländern lernen? Welche vorbereitenden Schritte kann die Bundesregierung jetzt schon tun? Welche Unterstützung brauchen Eigentümer*innen von Nichtwohngebäuden? Und wie können die Ausnahme- oder Übergangsregelung sinnvoll gestaltet werden? Diesen Fragen wollen wir mit Ihnen diskutieren.
DTSTART;VALUE=DATE:20231115
DTEND;VALUE=DATE:20231115
DTSTAMP:20230509T220000Z
URL:https://www.diw.de/en/diw_01.c.896839.en/events/mindesteffizienzstandards_fuer_nichtwohngebaeude_____wie_koennen_sie_ihre_wirkung_entfalten.html
ORGANIZER;CN=Olga  Zhylenko:mailto:ozhylenko@diw.de
END:VEVENT
END:VCALENDAR