BEGIN:VCALENDAR
VERSION:2.0
PRODID:https://www.diw.de/de/diw_01.c.806339.de/veranstaltungen.html
METHOD:PUBLISH
CALSCALE:GREGORIAN
BEGIN:VEVENT
UID:diw_01.c.910564.en
LOCATION:Francine D. Blau Room,DIW Berlin,3.3.002b,Anton-Wilhelm-Amo-Strasse 58,10117 Berlin
SUMMARY:Multi-mode Trade Policy Retaliation
DESCRIPTION:11:30 - 12:30 // Previous studies have found evidence that countries may choose to retaliate against countries for certain trade actions.  What has not been empirically examined is the use of multi-modal retaliation in trade policy. Using an exporter-importer-sector panel of antidumping (AD), sanitary and phytosanitary (SPS), and technical barriers to trade (TBT) actions between 1995 and 2019, we find evidence of cross-modal retaliation: importers are statistically more likely to initiate an AD petition against an exporter if they have an ongoing SPS-related concern against that exporter.  The World Trade Organization’s dispute settlement body (DSB) was initially seen as promoting the stability of the global trading system by limiting such unilateral retaliation, widespread throughout the 1980s. We find statistical evidence suggesting that countries may be increasingly engaging in unilateral actions, particularly through SPS and TBT, in response to trade policy disputes as confidence in the WTO DSB falls.  Our findings suggest that countries may expect more unilateral retaliatory action through SPS and TBT if recent efforts to reform the WTO DSB fail.  (with Kjersti Nes, Kara M. Reynolds, Aleks Schaefer)
DTSTART;VALUE=DATE:20241106
DTEND;VALUE=DATE:20241106
DTSTAMP:20240805T220000Z
URL:https://www.diw.de/en/diw_01.c.910564.en/events/multi-mode_trade_policy_retaliation.html
ORGANIZER;CN=Temulun Borjigen:mailto:tborjigen@diw.de
END:VEVENT
END:VCALENDAR