BEGIN:VCALENDAR
VERSION:2.0
PRODID:https://www.diw.de/de/diw_01.c.806339.de/veranstaltungen.html
METHOD:PUBLISH
CALSCALE:GREGORIAN
BEGIN:VEVENT
UID:diw_01.c.911748.en
LOCATION:Anna-J.-Schwartz-Raum,DIW Berlin,5.2.010,Anton-Wilhelm-Amo-Straße 58,10117 Berlin
SUMMARY:Scientific Skills Workshop 
DESCRIPTION:25.11.2024: 09:00-16:3026.11.2024: 09:00-13:00 // The DIW Graduate Center is pleased to offer a workshop on writing good texts for academic journals. It is designed for all doctoral students and researchers at DIW who would like to improve their English writing skills. Please register with Laura Starck (lstarck@diw.de) by November 1st, 2024 for the workshop. Please note: Registrations will be accepted on a first-come, first-served basis.
DTSTART;VALUE=DATE:20241124T220000Z
DTEND;VALUE=DATE:20241126T220000Z
DTSTAMP:20210411T220000Z
URL:https://www.diw.de/en/diw_01.c.911748.en/events/scientific_skills_workshop.html
ORGANIZER;CN=Laura Starck:mailto:lstarck@diw.de
END:VEVENT
END:VCALENDAR