BEGIN:VCALENDAR
VERSION:2.0
PRODID:https://www.diw.de/de/diw_01.c.806339.de/veranstaltungen.html
METHOD:PUBLISH
CALSCALE:GREGORIAN
BEGIN:VEVENT
UID:diw_01.c.914084.en
LOCATION:Elinor Ostrom Hall,DIW Berlin,Anton-Wilhelm-Amo-Strasse 58,10117 Berlin
SUMMARY:Schumpeter Berlin School of Economics Macro Seminar
DESCRIPTION:16:00-18:00 c.t. // 
DTSTART:20241015T091400Z
DTEND:20241015T160000Z
DTSTAMP:20240910T220000Z
URL:https://www.diw.de/en/diw_01.c.914084.en/events/schumpeter_berlin_school_of_economics_macro_seminar.html
ORGANIZER;CN=Alexander Kriwoluzky:mailto:akriwoluzky@diw.de
END:VEVENT
END:VCALENDAR