BEGIN:VCALENDAR
VERSION:2.0
PRODID:https://www.diw.de/de/diw_01.c.806339.de/veranstaltungen.html
METHOD:PUBLISH
CALSCALE:GREGORIAN
BEGIN:VEVENT
UID:diw_01.c.925691.en
LOCATION:Anna-J.-Schwartz-Raum,DIW Berlin,5.2.010,Anton-Wilhelm-Amo-Straße 58,10117 Berlin
SUMMARY:Seminar of the Macro Department
DESCRIPTION:11:30 a.m.  // 
DTSTART:20250225T103000Z
DTEND:20250225T113000Z
DTSTAMP:20241112T230000Z
URL:https://www.diw.de/en/diw_01.c.925691.en/events/seminar_of_the_macro_department.html
ORGANIZER;CN=Alexander Kriwoluzky:mailto:akriwoluzky@diw.de
END:VEVENT
END:VCALENDAR