BEGIN:VCALENDAR
VERSION:2.0
PRODID:https://www.diw.de/de/diw_01.c.806339.de/veranstaltungen.html
METHOD:PUBLISH
CALSCALE:GREGORIAN
BEGIN:VEVENT
UID:diw_01.c.931726.de
LOCATION:Rotes Rathaus,Festsaal,Haupteingang Rathausstraße 15,10178 Berlin
SUMMARY:Die Vermessung der Wirtschaft – 100 Jahre DIW Berlin
DESCRIPTION:16.00 - 17.15 Uhr // Das Deutsche Institut für Wirtschaftsforschung (DIW Berlin) hat eine bewegte einhundertjährige Geschichte hinter sich. 1925 in Berlin als Institut für Konjunkturforschung gegründet, spielte das Institut schnell eine bedeutsame Rolle für die Analyse und Beratung der deutschen Wirtschaftspolitik. In der Chronik „Die Vermessung der Wirtschaft – 100 Jahre DIW Berlin“, erstellt durch das Geschichtsbüro Reder, Roeseling & Prüfer, werden einhundert Jahre Institutsgeschichte dargestellt und reflektiert, und so ein Blick auf ihre Höhen und Tiefen geworfen. Von der jungen Forschungseinrichtung in der Weimarer Republik in Zeiten der Weltwirtschaftskrise, über eine dunkle Zeit als williger Handlanger des verbrecherischen NS-Regimes, dem Neubeginn der Nachkriegszeit und dem wirtschaftlichen Auf und Ab der zweiten Hälfte des 20. Jahrhunderts sowie der Arbeit des modernen, wissenschaftlichen Instituts seit der Jahrtausendwende - diese Chronik beleuchtet Highlights und Tiefpunkte der turbulenten Geschichte dieses Berliner Instituts.
DTSTART:20250304T230000Z
DTEND:20250305T225900Z
DTSTAMP:20250108T230000Z
URL:https://www.diw.de/de/diw_01.c.931726.de/veranstaltungen/die_vermessung_der_wirtschaft_____100_jahre_diw_berlin.html
ORGANIZER;CN=Christiane Zschech:mailto:events@diw.de
END:VEVENT
END:VCALENDAR