BEGIN:VCALENDAR
VERSION:2.0
PRODID:https://www.diw.de/de/diw_01.c.806339.de/veranstaltungen.html
METHOD:PUBLISH
CALSCALE:GREGORIAN
BEGIN:VEVENT
UID:diw_01.c.935010.en
LOCATION:Karl Popper Room,DIW Berlin,2.3.020,Anton-Wilhelm-Amo-Strasse 58,10117 Berlin
SUMMARY:Occupations, Disability Insurance, and Career Choices
DESCRIPTION:12:00 to 1:00 // Work-limiting disabilities pose a significant risk to the earnings potential and welfare of older workers. While coverage of public disability insurance (DI) systems is almost universal, the risk of becoming dependent on DI varies across occupations. In this paper, I study the value of public DI across different occupations using data from administrative social security records in Germany. I evaluate how public DI coverage affects occupational transitions by analyzing the employment effects of a large-scale policy reform that eliminated occupational DI coverage in Germany. I then use a structural model to study the relationship between disability insurance, occupational choice, and retirement in a life-cycle context. In counterfactual experiments, I evaluate how adjustments to the DI and retirement system affect the labor supply of different occupational groups.
DTSTART:20250129T110000Z
DTEND:20250129T120000Z
DTSTAMP:20250127T230000Z
URL:https://www.diw.de/en/diw_01.c.935010.en/events/occupations__disability_insurance__and_career_choices.html
ORGANIZER;CN=Lars Felder:mailto:lfelder@diw.de
END:VEVENT
END:VCALENDAR