BEGIN:VCALENDAR
VERSION:2.0
PRODID:https://www.diw.de/de/diw_01.c.806339.de/veranstaltungen.html
METHOD:PUBLISH
CALSCALE:GREGORIAN
BEGIN:VEVENT
UID:diw_01.c.938754.en
SUMMARY:2nd DIW Berlin – FES UW Ph.D. Summer School in Economics
DESCRIPTION:The Graduate Center of the German Institute for Economic Research (DIW Berlin) and the Faculty of Economic Sciences of the University of Warsaw (FES UW) are organizing a joint Summer School for Ph.D. students and post-docs in economics from September 22-26, 2025 in Warsaw.  The distinguished, internationally renowned lecturers will be Prof. Michael McMahon (University of Oxford) and Prof. Dr. Sophia Kazinnik (Stanford University).
DTSTART;VALUE=DATE:20250921T220000Z
DTEND;VALUE=DATE:20250926T220000Z
DTSTAMP:20250226T230000Z
URL:https://www.diw.de/en/diw_01.c.938754.en/events/2nd_diw_berlin_____fes_uw_ph.d._summer_school_in_economics.html
ORGANIZER;CN=Kerstin Bernoth:mailto:kbernoth@diw.de
END:VEVENT
END:VCALENDAR