BEGIN:VCALENDAR
VERSION:2.0
PRODID:https://www.diw.de/de/diw_01.c.806339.de/veranstaltungen.html
METHOD:PUBLISH
CALSCALE:GREGORIAN
BEGIN:VEVENT
UID:diw_01.c.940397.de
LOCATION:DIW Berlin
SUMMARY:Climate Policy Summer School
DESCRIPTION:Die PhD Summer School zu den wirtschaftlichen Grundlagen der Energie- und Klimapolitik ist Teil einer Reihe, die gemeinsam von einem Konsortium aus Institutionen wie dem DIW Berlin, der Technischen Universität Berlin, der Université Libre de Bruxelles, der EUI-Florence School of Regulation, dem University College London, der Universidad Carlos III de Madrid und der Universidad Autónoma de Madrid organisiert wird. In diesem Jahr sind das DIW Berlin, die TU Berlin und die Université Libre de Bruxelles Gastgeber der Veranstaltung mit dem Titel „Decarbonization Investment Under Uncertainty” (Investitionen in die Dekarbonisierung unter Unsicherheit), die vom 15. bis 19. September in Berlin stattfindet.  Das Hauptziel des Kurses ist es, Doktorand*innen der Wirtschaftswissenschaften in einem frühen Stadium ihrer Ausbildung eine hochkarätige akademische Ausbildung zu Instrumenten der Energie- und Klimapolitik unter Verwendung mikroökonomischer Methoden zu vermitteln. Der diesjährige Schwerpunkt auf Dekarbonisierungsinvestitionen unter Unsicherheit spiegelt die dringende Notwendigkeit wider, zu verstehen, wie Unsicherheit Investitionen in kohlenstoffarme Technologien beeinflusst, was für die Gestaltung wirksamer Klimapolitik und die Beschleunigung der Energiewende von entscheidender Bedeutung ist. Das Programm umfasst Vorlesungen zu grundlegenden Theorien und praktischen Erkenntnissen im Zusammenhang mit der Energiewende, kombiniert mit interaktiven Elementen wie Gruppenprojekten und einer Podiumsdiskussion mit politischen Entscheidungsträgern. Die Studierenden haben außerdem die Möglichkeit, ihre Forschungsideen vor erfahrenen Forschern zu präsentieren.  Die Motivation für diese Sommerschule ergibt sich aus der dringenden Notwendigkeit, den Herausforderungen des Klimawandels durch fundierte politische Entscheidungen zu begegnen. Durch die Vermittlung von fortgeschrittenen Kenntnissen im Bereich Energie- und Klimapolitik soll die Veranstaltung den Aufbau eines Netzwerks von Studierenden fördern, die sich für die theoretische Analyse von Energie- und Klimapolitik interessieren, und sie mit führenden Wissenschaftler*innen auf diesem Gebiet zusammenbringen. Die Sommerschule hat eine lange Tradition, Studierende in wichtige Diskussionen über Klimaökonomie und -politik einzubeziehen und den Dialog zwischen Wissenschaft und Praxis zu fördern. Weitere Informationen über die Schule, die Reihe und die Bewerbung (Bewerbungsschluss 1. April) finden Sie hier
DTSTART;VALUE=DATE:20250914T220000Z
DTEND;VALUE=DATE:20250919T220000Z
DTSTAMP:20250310T230000Z
URL:https://www.diw.de/de/diw_01.c.940397.de/veranstaltungen/climate_policy_summer_school.html
ORGANIZER;CN=Antonia Kurz:mailto:akurz@diw.de
END:VEVENT
END:VCALENDAR