BEGIN:VCALENDAR
VERSION:2.0
PRODID:https://www.diw.de/de/diw_01.c.806339.de/veranstaltungen.html
METHOD:PUBLISH
CALSCALE:GREGORIAN
BEGIN:VEVENT
UID:diw_01.c.942340.en
LOCATION:Elinor Ostrom Hall,DIW Berlin,Anton-Wilhelm-Amo-Strasse 58,10117 Berlin
SUMMARY:Annual Macro Meeting of the German Economic Association
DESCRIPTION:The Annual Macro Meeting of the German Economic Association (VfS) will take place on May 15-16, 2025, at DIW Berlin, providing an interdisciplinary platform for discussing current topics in macroeconomics. Leading researchers will present innovative approaches and challenges in macroeconomic theory, including topics such as the impact of expectations in heterogeneous agent models, the macroeconomics of inequality and optimism, as well as the effects of excess savings and credit market disruptions on long-term economic trends. Additionally, the new research infrastructure SOEP 2.0 will be introduced, offering important data for analyzing social and economic developments. This event provides a significant opportunity for scholars to share their latest findings and shape the future of macroeconomic research.
DTSTART;VALUE=DATE:20250514T220000Z
DTEND;VALUE=DATE:20250516T220000Z
DTSTAMP:20250324T230000Z
URL:https://www.diw.de/en/diw_01.c.942340.en/events/annual_macro_meeting_of_the_german_economic_association.html
ORGANIZER;CN=Alexander Kriwoluzky:mailto:akriwoluzky@diw.de
END:VEVENT
END:VCALENDAR