BEGIN:VCALENDAR
VERSION:2.0
PRODID:https://www.diw.de/de/diw_01.c.806339.de/veranstaltungen.html
METHOD:PUBLISH
CALSCALE:GREGORIAN
BEGIN:VEVENT
UID:diw_01.c.946888.de
LOCATION:Karl-Popper-Raum,DIW Berlin,2.3.020,Anton-Wilhelm-Amo-Straße 58,10117 Berlin
SUMMARY:Wer profitiert von regionaler Wirtschaftspolitik? Erkenntnisse aus verknüpften Arbeitgeber-Beschäftigten-Daten
DESCRIPTION:12:30-13:30 // Der englische Originaltitel des Seminars lautet: “Who Benefits from Place-based Policies? Evidence from Matched Employer-Employee Data”. Die Präsentation findet auf Englisch statt.  Eine kurze Zusammenfassung zum Vortrag ist nur auf der englischen Veranstaltungsseite verfügbar!
DTSTART:20250702T103000Z
DTEND:20250702T113000Z
DTSTAMP:20250413T220000Z
URL:https://www.diw.de/de/diw_01.c.946888.de/veranstaltungen/wer_profitiert_von_regionaler_wirtschaftspolitik__erkenntnisse_aus_verknuepften_arbeitgeber-beschaeftigten-daten.html
ORGANIZER;CN=Thomas Rieger:mailto:trieger@diw.de
END:VEVENT
END:VCALENDAR